BEGIN:VCALENDAR
VERSION:2.0
PRODID:-//SK6AW//Event Calendar//SV
CALSCALE:GREGORIAN
METHOD:PUBLISH
X-WR-CALNAME:SK6AW Händelsekalender
X-WR-TIMEZONE:Europe/Stockholm
X-WR-CALDESC:Händelser från SK6AW Hisingens Radioklubb
BEGIN:VTIMEZONE
TZID:Europe/Stockholm
BEGIN:STANDARD
DTSTART:20231029T030000
TZOFFSETFROM:+0200
TZOFFSETTO:+0100
TZNAME:CET
END:STANDARD
BEGIN:DAYLIGHT
DTSTART:20240331T020000
TZOFFSETFROM:+0100
TZOFFSETTO:+0200
TZNAME:CEST
END:DAYLIGHT
END:VTIMEZONE
BEGIN:VEVENT
UID:5521aa45682dd4070063a8b56b77bc3d
DTSTART;VALUE=DATE:20260425
DTEND;VALUE=DATE:20260426
SUMMARY:SSA Årsmöte
URL:https://www.sk6jx.org/
DESCRIPTION:SSA Årsmöte\n\nLänk: https://www.sk6jx.org/
LOCATION:SK6AW Hisingens Radioklubb
STATUS:CONFIRMED
TRANSP:OPAQUE
CREATED:20251214T172320Z
LAST-MODIFIED:20251214T172320Z
DTSTAMP:20260420T195739Z
END:VEVENT
BEGIN:VEVENT
UID:e00122c7c0545cb47466c51bef87ee02
DTSTART;TZID=Europe/Stockholm:20260427T210000
DTEND;TZID=Europe/Stockholm:20260427T230000
SUMMARY:RSGB FT4
URL:https://www.rsgbcc.org/hf/rules/2026/r80m_ft4.shtml
DESCRIPTION:RSGB FT4\n\nLänk: https://www.rsgbcc.org/hf/rules/2026/r80m_ft4.shtml
LOCATION:SK6AW Hisingens Radioklubb
STATUS:CONFIRMED
TRANSP:OPAQUE
CREATED:20260202T093715Z
LAST-MODIFIED:20260202T093715Z
DTSTAMP:20260420T195739Z
END:VEVENT
BEGIN:VEVENT
UID:773f3dae310a13e6f25b64452fd01bb9
DTSTART;VALUE=DATE:20260509
DTEND;VALUE=DATE:20260510
SUMMARY:Arbetsdag Klubbstugan
DESCRIPTION:Arbetsdag Klubbstugan
LOCATION:SK6AW Hisingens Radioklubb
STATUS:CONFIRMED
TRANSP:OPAQUE
CREATED:20260202T091843Z
LAST-MODIFIED:20260202T091843Z
DTSTAMP:20260420T195739Z
END:VEVENT
BEGIN:VEVENT
UID:70302a2c9bddf583960fa564c6dd7576
DTSTART;TZID=Europe/Stockholm:20260517T090000
DTEND;TZID=Europe/Stockholm:20260517T110000
SUMMARY:SSA Portabel-Test
DESCRIPTION:SSA Portabel-Test
LOCATION:SK6AW Hisingens Radioklubb
STATUS:CONFIRMED
TRANSP:OPAQUE
CREATED:20260205T201659Z
LAST-MODIFIED:20260205T201659Z
DTSTAMP:20260420T195739Z
END:VEVENT
BEGIN:VEVENT
UID:b3c5e5090d5dbb29624a6ecec9880a4a
DTSTART;TZID=Europe/Stockholm:20260518T210000
DTEND;TZID=Europe/Stockholm:20260518T230000
SUMMARY:RSGB FT4
URL:https://www.rsgbcc.org/hf/rules/2026/r80m_ft4.shtml
DESCRIPTION:RSGB FT4\n\nLänk: https://www.rsgbcc.org/hf/rules/2026/r80m_ft4.shtml
LOCATION:SK6AW Hisingens Radioklubb
STATUS:CONFIRMED
TRANSP:OPAQUE
CREATED:20260202T093743Z
LAST-MODIFIED:20260202T093743Z
DTSTAMP:20260420T195739Z
END:VEVENT
BEGIN:VEVENT
UID:d7974c7eb1ab83c09bbe696841240080
DTSTART;VALUE=DATE:20260530
DTEND;VALUE=DATE:20260531
SUMMARY:CQ WPX CW
DESCRIPTION:CQ WPX CW
LOCATION:SK6AW Hisingens Radioklubb
STATUS:CONFIRMED
TRANSP:OPAQUE
CREATED:20251117T092756Z
LAST-MODIFIED:20251117T092756Z
DTSTAMP:20260420T195739Z
END:VEVENT
BEGIN:VEVENT
UID:079b5375dc68f81f1d89c5488ebd8933
DTSTART;TZID=Europe/Stockholm:20260615T210000
DTEND;TZID=Europe/Stockholm:20260615T230000
SUMMARY:RSGB FT4
URL:https://www.rsgbcc.org/hf/rules/2026/r80m_ft4.shtml
DESCRIPTION:RSGB FT4\n\nLänk: https://www.rsgbcc.org/hf/rules/2026/r80m_ft4.shtml
LOCATION:SK6AW Hisingens Radioklubb
STATUS:CONFIRMED
TRANSP:OPAQUE
CREATED:20260202T093821Z
LAST-MODIFIED:20260202T093821Z
DTSTAMP:20260420T195739Z
END:VEVENT
BEGIN:VEVENT
UID:298fb55844a7423165fca40c728fb36b
DTSTART;TZID=Europe/Stockholm:20260727T210000
DTEND;TZID=Europe/Stockholm:20260727T230000
SUMMARY:RSGB FT4
URL:https://www.rsgbcc.org/hf/rules/2026/r80m_ft4.shtml
DESCRIPTION:RSGB FT4\n\nLänk: https://www.rsgbcc.org/hf/rules/2026/r80m_ft4.shtml
LOCATION:SK6AW Hisingens Radioklubb
STATUS:CONFIRMED
TRANSP:OPAQUE
CREATED:20260202T093853Z
LAST-MODIFIED:20260202T093853Z
DTSTAMP:20260420T195739Z
END:VEVENT
BEGIN:VEVENT
UID:c74e4aef8f20f53c83adc8dc736e7f7b
DTSTART;TZID=Europe/Stockholm:20260817T210000
DTEND;TZID=Europe/Stockholm:20260817T230000
SUMMARY:RSGB FT4
URL:https://www.rsgbcc.org/hf/rules/2026/r80m_ft4.shtml
DESCRIPTION:RSGB FT4\n\nLänk: https://www.rsgbcc.org/hf/rules/2026/r80m_ft4.shtml
LOCATION:SK6AW Hisingens Radioklubb
STATUS:CONFIRMED
TRANSP:OPAQUE
CREATED:20260202T093925Z
LAST-MODIFIED:20260202T093925Z
DTSTAMP:20260420T195739Z
END:VEVENT
BEGIN:VEVENT
UID:0168f91d26c32b96d0afeb184764290d
DTSTART;VALUE=DATE:20260829
DTEND;VALUE=DATE:20260830
SUMMARY:Bakluckeloppis hos SK6LR i Järpås
DESCRIPTION:Bakluckeloppis hos SK6LR i Järpås
LOCATION:SK6AW Hisingens Radioklubb
STATUS:CONFIRMED
TRANSP:OPAQUE
CREATED:20260329T094118Z
LAST-MODIFIED:20260329T094118Z
DTSTAMP:20260420T195739Z
END:VEVENT
BEGIN:VEVENT
UID:e102236d1d04484633b2ed73d667f75b
DTSTART;VALUE=DATE:20260905
DTEND;VALUE=DATE:20260906
SUMMARY:Arbetsdag Klubbstugan
DESCRIPTION:Arbetsdag Klubbstugan
LOCATION:SK6AW Hisingens Radioklubb
STATUS:CONFIRMED
TRANSP:OPAQUE
CREATED:20260202T091930Z
LAST-MODIFIED:20260202T091930Z
DTSTAMP:20260420T195739Z
END:VEVENT
BEGIN:VEVENT
UID:0e5ca40680d7d484d56b8276605cc22e
DTSTART;VALUE=DATE:20260919
DTEND;VALUE=DATE:20260920
SUMMARY:SAC CW
DESCRIPTION:SAC CW
LOCATION:SK6AW Hisingens Radioklubb
STATUS:CONFIRMED
TRANSP:OPAQUE
CREATED:20251217T202347Z
LAST-MODIFIED:20251217T202347Z
DTSTAMP:20260420T195739Z
END:VEVENT
BEGIN:VEVENT
UID:bc3f54713f71b6fbe6e8a01524ee5cab
DTSTART;TZID=Europe/Stockholm:20260928T210000
DTEND;TZID=Europe/Stockholm:20260928T230000
SUMMARY:RSGB FT4
URL:https://www.rsgbcc.org/hf/rules/2026/r80m_ft4.shtml
DESCRIPTION:RSGB FT4\n\nLänk: https://www.rsgbcc.org/hf/rules/2026/r80m_ft4.shtml
LOCATION:SK6AW Hisingens Radioklubb
STATUS:CONFIRMED
TRANSP:OPAQUE
CREATED:20260202T094000Z
LAST-MODIFIED:20260202T094000Z
DTSTAMP:20260420T195739Z
END:VEVENT
BEGIN:VEVENT
UID:efb768301eda51bc3773e64e4a436c2a
DTSTART;VALUE=DATE:20261010
DTEND;VALUE=DATE:20261011
SUMMARY:SAC SSB
DESCRIPTION:SAC SSB
LOCATION:SK6AW Hisingens Radioklubb
STATUS:CONFIRMED
TRANSP:OPAQUE
CREATED:20251217T202405Z
LAST-MODIFIED:20251217T202405Z
DTSTAMP:20260420T195739Z
END:VEVENT
BEGIN:VEVENT
UID:e20fe2c0ebfe2e94d678c0fa5f3d42a3
DTSTART;VALUE=DATE:20261024
DTEND;VALUE=DATE:20261025
SUMMARY:CQ WW SSB
DESCRIPTION:CQ WW SSB
LOCATION:SK6AW Hisingens Radioklubb
STATUS:CONFIRMED
TRANSP:OPAQUE
CREATED:20251117T092540Z
LAST-MODIFIED:20251117T092540Z
DTSTAMP:20260420T195739Z
END:VEVENT
BEGIN:VEVENT
UID:3ece79c35f40cc85cbd718318954a6ba
DTSTART;TZID=Europe/Stockholm:20261026T210000
DTEND;TZID=Europe/Stockholm:20261026T230000
SUMMARY:RSGB FT4
URL:https://www.rsgbcc.org/hf/rules/2026/r80m_ft4.shtml
DESCRIPTION:RSGB FT4\n\nLänk: https://www.rsgbcc.org/hf/rules/2026/r80m_ft4.shtml
LOCATION:SK6AW Hisingens Radioklubb
STATUS:CONFIRMED
TRANSP:OPAQUE
CREATED:20260202T094026Z
LAST-MODIFIED:20260202T094026Z
DTSTAMP:20260420T195739Z
END:VEVENT
BEGIN:VEVENT
UID:d240a611e80213fb273b5fb5b5bb9bc3
DTSTART;VALUE=DATE:20261115
DTEND;VALUE=DATE:20261116
SUMMARY:SK6AW blir 59 år idag
DESCRIPTION:SK6AW blir 59 år idag
LOCATION:SK6AW Hisingens Radioklubb
STATUS:CONFIRMED
TRANSP:OPAQUE
CREATED:20260329T094422Z
LAST-MODIFIED:20260329T094422Z
DTSTAMP:20260420T195739Z
END:VEVENT
BEGIN:VEVENT
UID:d55a514d6b60f441f1df08521aae61d6
DTSTART;VALUE=DATE:20261128
DTEND;VALUE=DATE:20261129
SUMMARY:CQ WW CW
DESCRIPTION:CQ WW CW
LOCATION:SK6AW Hisingens Radioklubb
STATUS:CONFIRMED
TRANSP:OPAQUE
CREATED:20251117T092448Z
LAST-MODIFIED:20251117T092448Z
DTSTAMP:20260420T195739Z
END:VEVENT
BEGIN:VEVENT
UID:1f363843f6e26246a9af31d1885b3112
DTSTART;TZID=Europe/Stockholm:20261214T210000
DTEND;TZID=Europe/Stockholm:20261214T230000
SUMMARY:RSGB FT4
URL:https://www.rsgbcc.org/hf/rules/2026/r80m_ft4.shtml
DESCRIPTION:RSGB FT4\n\nLänk: https://www.rsgbcc.org/hf/rules/2026/r80m_ft4.shtml
LOCATION:SK6AW Hisingens Radioklubb
STATUS:CONFIRMED
TRANSP:OPAQUE
CREATED:20260202T094111Z
LAST-MODIFIED:20260202T094111Z
DTSTAMP:20260420T195739Z
END:VEVENT
END:VCALENDAR
